BEGIN:VCALENDAR
VERSION:2.0
PRODID:-//Lay Down Layla//laydownlayla.de//DE
CALSCALE:GREGORIAN
METHOD:PUBLISH
BEGIN:VEVENT
UID:2026-07-11-stadtfest-neckarbischofsheim@laydownlayla.de
DTSTAMP:20260424T093511Z
DTSTART;VALUE=DATE:20260711
DTEND;VALUE=DATE:20260712
SUMMARY:Stadtfest
LOCATION:Neckarbischofsheim
DESCRIPTION:Lay Down Layla - Stadtfest
STATUS:CONFIRMED
TRANSP:TRANSPARENT
END:VEVENT
END:VCALENDAR