BEGIN:VCALENDAR
VERSION:2.0
PRODID:-//Lay Down Layla//laydownlayla.de//DE
CALSCALE:GREGORIAN
METHOD:PUBLISH
BEGIN:VEVENT
UID:2026-06-27-fleckenfest-oberstenfeld@laydownlayla.de
DTSTAMP:20260424T093511Z
DTSTART;VALUE=DATE:20260627
DTEND;VALUE=DATE:20260628
SUMMARY:Fleckenfest
LOCATION:Oberstenfeld
DESCRIPTION:Lay Down Layla - Fleckenfest
STATUS:CONFIRMED
TRANSP:TRANSPARENT
END:VEVENT
END:VCALENDAR